BEGIN:VCALENDAR
VERSION:2.0
PRODID:-//Preble County Chamber of Commerce - ECPv6.15.20//NONSGML v1.0//EN
CALSCALE:GREGORIAN
METHOD:PUBLISH
X-ORIGINAL-URL:https://preblecountyohio.com
X-WR-CALDESC:Events for Preble County Chamber of Commerce
REFRESH-INTERVAL;VALUE=DURATION:PT1H
X-Robots-Tag:noindex
X-PUBLISHED-TTL:PT1H
BEGIN:VTIMEZONE
TZID:America/Detroit
BEGIN:DAYLIGHT
TZOFFSETFROM:-0500
TZOFFSETTO:-0400
TZNAME:EDT
DTSTART:20250309T070000
END:DAYLIGHT
BEGIN:STANDARD
TZOFFSETFROM:-0400
TZOFFSETTO:-0500
TZNAME:EST
DTSTART:20251102T060000
END:STANDARD
BEGIN:DAYLIGHT
TZOFFSETFROM:-0500
TZOFFSETTO:-0400
TZNAME:EDT
DTSTART:20260308T070000
END:DAYLIGHT
BEGIN:STANDARD
TZOFFSETFROM:-0400
TZOFFSETTO:-0500
TZNAME:EST
DTSTART:20261101T060000
END:STANDARD
BEGIN:DAYLIGHT
TZOFFSETFROM:-0500
TZOFFSETTO:-0400
TZNAME:EDT
DTSTART:20270314T070000
END:DAYLIGHT
BEGIN:STANDARD
TZOFFSETFROM:-0400
TZOFFSETTO:-0500
TZNAME:EST
DTSTART:20271107T060000
END:STANDARD
END:VTIMEZONE
BEGIN:VEVENT
DTSTART;TZID=America/Detroit:20260430T040000
DTEND;TZID=America/Detroit:20260430T170000
DTSTAMP:20260422T115739
CREATED:20260421T192255Z
LAST-MODIFIED:20260421T192535Z
UID:10000551-1777521600-1777568400@preblecountyohio.com
SUMMARY:Member Meet and Greet
DESCRIPTION:Meet\, network and connect with other business owners!\n  \nAre you curious of what benefits the Preble County Chamber has available for your business? This informational session will review benefits available through partners of the Chamber.\n\nHear from Chamber Board members on perks and opportunities available to market your business and so much more.\n\nPlease click the link here https://forms.gle/HK1QEg5X4yqstgvf6to reserve your seat for our Meet & Greet Chamber Benefit session.
URL:https://preblecountyohio.com/event/member-meet-and-greetm/
LOCATION:Chamber Offices\, 122 W. Decatur St.\, Eaton\, OH\, 45311
CATEGORIES:Networking Chamber Events
ATTACH;FMTTYPE=image/jpeg:https://preblecountyohio.com/wp-content/uploads/2026/04/676590618_1544543454340417_3954641833287058709_n.jpg
ORGANIZER;CN="Preble County Chamber":MAILTO:chamberoffices@preblecountyohio.com
END:VEVENT
END:VCALENDAR